BEGIN:VCALENDAR
VERSION:2.0
PRODID:-//eventon.com NONSGML v1.0//EN
CALSCALE:GREGORIAN
METHOD:PUBLISH
BEGIN:VEVENT
UID:69e9541f4cce8
DTSTAMP:20260422T230503Z
DTSTART:20251125T123000Z
DTEND:20251125T140000Z
LOCATION:TUM Think Tank Event Space B.158 Richard-Wagner-Straße 1
SUMMARY:AI as Co-Creator
DESCRIPTION:The professorship for Learning Sciences and Educational Design 
 Technologies\,  under Prof. Dr. Anna Keune\,  is launching a series of symp
 osia on the Future(s) of Educational Design. Their first event on Tuesday\,
   25 November 2025\,  is about AI as Co-Creator: It features short talks f
 rom five experts of diverse disciplines (Architecture\,  Education[..]\nhtt
 ps://www.edtech.tum.de/events/ai-as-co-creator/
URL:https://www.edtech.tum.de/events/ai-as-co-creator/
END:VEVENT
END:VCALENDAR